BEGIN:VCALENDAR
VERSION:2.0
PRODID:spatie/icalendar-generator
DESCRIPTION:Veranstaltungen von Freundeskreis Stadtbibliothek und Stadtarch
 iv Dinslaken e.V.
X-WR-CALDESC:Veranstaltungen von Freundeskreis Stadtbibliothek und Stadtarc
 hiv Dinslaken e.V.
REFRESH-INTERVAL;VALUE=DURATION:PT1440M
X-PUBLISHED-TTL:PT1440M
BEGIN:VTIMEZONE
TZID:Europe/Berlin
BEGIN:STANDARD
DTSTART:20251026T030000Z
TZOFFSETFROM:+0200
TZOFFSETTO:+0100
END:STANDARD
BEGIN:DAYLIGHT
DTSTART:20260329T020000Z
TZOFFSETFROM:+0100
TZOFFSETTO:+0200
END:DAYLIGHT
BEGIN:STANDARD
DTSTART:20261025T030000Z
TZOFFSETFROM:+0200
TZOFFSETTO:+0100
END:STANDARD
END:VTIMEZONE
BEGIN:VTIMEZONE
TZID:UTC
BEGIN:STANDARD
DTSTART:20250724T105608Z
TZOFFSETFROM:+0000
TZOFFSETTO:+0000
END:STANDARD
END:VTIMEZONE
BEGIN:VEVENT
UID:31-11
DTSTAMP:20260420T105608Z
SUMMARY:Ausstellung „ATEM HOLEN“ - Papierobjekte von Katherine Tinteren
 -Klizke
LOCATION:Museum Voswinckelshof Elmar-Sierp-Platz 6  Dinslaken Nordrhein-Wes
 tfalen 46535
ORGANIZER;CN=ffsusdadmin:MAILTO:andreas.soraru@seoboxx-webdesign.de
DTSTART;TZID=Europe/Berlin;VALUE=DATE:20260410
DTEND;TZID=Europe/Berlin;VALUE=DATE:20260720
X-ALT-DESC;FMTTYPE=TEXT/HTML:
CATEGORIES:Museum Voswinckelshof
URL;VALUE=URI:https://freundeskreis-dinslaken.de/mc-events/ausstellung-atem
 -holen-papierobjekte-von-katherine-tinteren-klizke/
METHOD:PUBLISH
END:VEVENT
END:VCALENDAR