BEGIN:VCALENDAR
VERSION:2.0
PRODID:spatie/icalendar-generator
DESCRIPTION:Veranstaltungen von Freundeskreis Stadtbibliothek und Stadtarch
 iv Dinslaken e.V.
X-WR-CALDESC:Veranstaltungen von Freundeskreis Stadtbibliothek und Stadtarc
 hiv Dinslaken e.V.
REFRESH-INTERVAL;VALUE=DURATION:PT1440M
X-PUBLISHED-TTL:PT1440M
BEGIN:VTIMEZONE
TZID:Europe/Berlin
BEGIN:DAYLIGHT
DTSTART:20260329T020000Z
TZOFFSETFROM:+0100
TZOFFSETTO:+0200
END:DAYLIGHT
BEGIN:STANDARD
DTSTART:20261025T030000Z
TZOFFSETFROM:+0200
TZOFFSETTO:+0100
END:STANDARD
END:VTIMEZONE
BEGIN:VTIMEZONE
TZID:UTC
BEGIN:STANDARD
DTSTART:20250724T112424Z
TZOFFSETFROM:+0000
TZOFFSETTO:+0000
END:STANDARD
END:VTIMEZONE
BEGIN:VEVENT
UID:20-17
DTSTAMP:20260420T112424Z
SUMMARY:Kiloverkauf in der Kathrin-Türks-Halle Dinslaken
LOCATION:Kathrin-Türks-Halle Platz D\\'Agen 4  Dinslaken Nordrhein-Westfal
 en 46535
ORGANIZER;CN=ffsusdadmin:MAILTO:andreas.soraru@seoboxx-webdesign.de
DTSTART;TZID=Europe/Berlin:20260829T090000
DTEND;TZID=Europe/Berlin:20260829T180000
X-ALT-DESC;FMTTYPE=TEXT/HTML:
CATEGORIES:Kathrin-Türks-Halle,  Kiloverkauf
URL;VALUE=URI:https://freundeskreis-dinslaken.de/mc-events/kiloverkauf-in-d
 er-kathrin-tuerks-halle-dinslaken/
METHOD:PUBLISH
END:VEVENT
END:VCALENDAR