BEGIN:VCALENDAR
VERSION:2.0
PRODID:spatie/icalendar-generator
DESCRIPTION:Veranstaltungen von Freundeskreis Stadtbibliothek und Stadtarch
 iv Dinslaken e.V.
X-WR-CALDESC:Veranstaltungen von Freundeskreis Stadtbibliothek und Stadtarc
 hiv Dinslaken e.V.
REFRESH-INTERVAL;VALUE=DURATION:PT1440M
X-PUBLISHED-TTL:PT1440M
BEGIN:VTIMEZONE
TZID:Europe/Berlin
BEGIN:STANDARD
DTSTART:20251026T030000Z
TZOFFSETFROM:+0200
TZOFFSETTO:+0100
END:STANDARD
BEGIN:DAYLIGHT
DTSTART:20260329T020000Z
TZOFFSETFROM:+0100
TZOFFSETTO:+0200
END:DAYLIGHT
BEGIN:STANDARD
DTSTART:20261025T030000Z
TZOFFSETFROM:+0200
TZOFFSETTO:+0100
END:STANDARD
END:VTIMEZONE
BEGIN:VTIMEZONE
TZID:UTC
BEGIN:STANDARD
DTSTART:20250723T172034Z
TZOFFSETFROM:+0000
TZOFFSETTO:+0000
END:STANDARD
END:VTIMEZONE
BEGIN:VEVENT
UID:16-13
DTSTAMP:20260419T172034Z
SUMMARY:Abschlussveranstaltungen für den Bibliotheksführerschein - 3 Lesu
 ngen mit Tina Schilp
LOCATION:Dachstudio der Stadtbibliothek Dinslaken Friedrich-Ebert-Straße 8
 4  Dinslaken Nordrhein-Westfalen 46535
ORGANIZER;CN=ffsusdadmin:MAILTO:andreas.soraru@seoboxx-webdesign.de
DTSTART;TZID=Europe/Berlin:20260513T090000
DTEND;TZID=Europe/Berlin:20260513T120000
X-ALT-DESC;FMTTYPE=TEXT/HTML:Es handelt sich um 3 Lesungen am 13.05.2026 um
  9.00 Uhr\, 10.00 Uhr und 11.00 Uhr im Dachstudio der Stadtbibliothek für
  insgesamt 8 Grundschulklassen der Jahrgangsstufe 4\, die am Bibliotheksf
 ührerschein teilgenommen haben.
CATEGORIES:Stadtbibliothek
URL;VALUE=URI:https://freundeskreis-dinslaken.de/mc-events/abschlussveranst
 altungen-fuer-den-bibliotheksfuehrerschein-3-lesungen-mit-tina-schilp/
METHOD:PUBLISH
END:VEVENT
END:VCALENDAR