BEGIN:VCALENDAR
VERSION:2.0
PRODID:spatie/icalendar-generator
DESCRIPTION:Veranstaltungen von Freundeskreis Stadtbibliothek und Stadtarch
 iv Dinslaken e.V.
X-WR-CALDESC:Veranstaltungen von Freundeskreis Stadtbibliothek und Stadtarc
 hiv Dinslaken e.V.
REFRESH-INTERVAL;VALUE=DURATION:PT1440M
X-PUBLISHED-TTL:PT1440M
BEGIN:VTIMEZONE
TZID:Europe/Berlin
BEGIN:DAYLIGHT
DTSTART:20260329T020000Z
TZOFFSETFROM:+0100
TZOFFSETTO:+0200
END:DAYLIGHT
BEGIN:STANDARD
DTSTART:20261025T030000Z
TZOFFSETFROM:+0200
TZOFFSETTO:+0100
END:STANDARD
BEGIN:DAYLIGHT
DTSTART:20270328T020000Z
TZOFFSETFROM:+0100
TZOFFSETTO:+0200
END:DAYLIGHT
END:VTIMEZONE
BEGIN:VTIMEZONE
TZID:UTC
BEGIN:STANDARD
DTSTART:20250723T172152Z
TZOFFSETFROM:+0000
TZOFFSETTO:+0000
END:STANDARD
END:VTIMEZONE
BEGIN:VEVENT
UID:11-10
DTSTAMP:20260419T172152Z
SUMMARY:Herbstlesung mit Felicitas Fuchs aus Ihrem neuen Buch „Rosen im A
 sphalt“
LOCATION:Dachstudio der Stadtbibliothek Dinslaken Friedrich-Ebert-Straße 8
 4  Dinslaken Nordrhein-Westfalen 46535
ORGANIZER;CN=ffsusdadmin:MAILTO:andreas.soraru@seoboxx-webdesign.de
DTSTART;TZID=Europe/Berlin:20261001T190000
DTEND;TZID=Europe/Berlin:20261001T190000
X-ALT-DESC;FMTTYPE=TEXT/HTML:
CATEGORIES:Kiloverkauf,  Stadtbibliothek
URL;VALUE=URI:https://freundeskreis-dinslaken.de/mc-events/herbstlesung-mit
 -felicitas-fuchs-aus-ihrem-neuen-buch-rosen-im-asphalt/
METHOD:PUBLISH
END:VEVENT
END:VCALENDAR